BEGIN:VCALENDAR
VERSION:2.0
PRODID:-//Girls Ride Out - ECPv6.15.20//NONSGML v1.0//EN
CALSCALE:GREGORIAN
METHOD:PUBLISH
X-ORIGINAL-URL:https://girlsrideout.com
X-WR-CALDESC:Events for Girls Ride Out
REFRESH-INTERVAL;VALUE=DURATION:PT1H
X-Robots-Tag:noindex
X-PUBLISHED-TTL:PT1H
BEGIN:VTIMEZONE
TZID:Australia/Sydney
BEGIN:STANDARD
TZOFFSETFROM:+1100
TZOFFSETTO:+1000
TZNAME:AEST
DTSTART:20230401T160000
END:STANDARD
BEGIN:DAYLIGHT
TZOFFSETFROM:+1000
TZOFFSETTO:+1100
TZNAME:AEDT
DTSTART:20230930T160000
END:DAYLIGHT
BEGIN:STANDARD
TZOFFSETFROM:+1100
TZOFFSETTO:+1000
TZNAME:AEST
DTSTART:20240406T160000
END:STANDARD
BEGIN:DAYLIGHT
TZOFFSETFROM:+1000
TZOFFSETTO:+1100
TZNAME:AEDT
DTSTART:20241005T160000
END:DAYLIGHT
BEGIN:STANDARD
TZOFFSETFROM:+1100
TZOFFSETTO:+1000
TZNAME:AEST
DTSTART:20250405T160000
END:STANDARD
BEGIN:DAYLIGHT
TZOFFSETFROM:+1000
TZOFFSETTO:+1100
TZNAME:AEDT
DTSTART:20251004T160000
END:DAYLIGHT
END:VTIMEZONE
BEGIN:VEVENT
DTSTART;TZID=Australia/Sydney:20240804T190000
DTEND;TZID=Australia/Sydney:20240805T010000
DTSTAMP:20260421T212955
CREATED:20240731T101646Z
LAST-MODIFIED:20240731T101703Z
UID:161-1722798000-1722819600@girlsrideout.com
SUMMARY:GRO Monthly Ride\, 4th August\, 2024 - Berowra to Wollombi Tavern
DESCRIPTION:Come along to this month’s ride to Wollombi\, the first ride destination for GRO Northern Stars all those years ago. We may be lucky to have some of the GRO Northern Stars members join us for lunch at the Wollombi Tavern\, where we catch up with them and celebrate their anniversary together. \nIt is a fantastic ride with plenty of great roads out to Wollombi so be sure to come along and bring a friend or two. \nMeet us at Shell Coles Express Servo\, Berowra\, at 9:00am.  We’ll first head north on the Pacific Highway. \n** NOTE: The departure briefing is at 9:20am ** \nEveryone is welcome. \nPlease let us know if you are new to riding\, or want a buddy for the ride.  Feel free to bring friends! \nRIDE DETAILS\nDate: Sunday 4th August\, 2024 \nMeet: Shell Coles Express Servo\, 955 Pacific Highway (corner Yallambee Road)\, BEROWRA \nDestination: Wollombi Tavern\, 2994 Great North Road\, WOLLOMBI \nTime: Meet by 9.00am\, ready for 9.20am departure briefing. \nRegroup points: Corrugated Café\, 780 Peats Ridge Road\, PEATS RIDGE (approx. 20 minutes for coffee\, leg stretch\, etc.) \nRoute map: https://maps.app.goo.gl/MeHmKsmQcFLV6yHr7 \nRide route time: (Approx. 100km – 1hr 30 plus rest stop) \nWhy not take the time and indicate you are going by clicking the ‘going’ button on the Facebook Event Listing.
URL:https://girlsrideout.com/event/gro-monthly-ride-4th-august-2024-berowra-to-wollombi-tavern/
END:VEVENT
BEGIN:VEVENT
DTSTART;TZID=Australia/Sydney:20240824T180000
DTEND;TZID=Australia/Sydney:20240826T033000
DTSTAMP:20260421T212955
CREATED:20240731T102820Z
LAST-MODIFIED:20240731T103132Z
UID:163-1724522400-1724643000@girlsrideout.com
SUMMARY:GRO Weekend Away - Nelson Bay - 24 & 25 August 2024
DESCRIPTION:This event can be attended either by Motorcycle or by Car it is your choice. \nEither way we will have lots of fun and I hope a great deal of laughter. \n  \nSaturday              24th August\n8:00am                 McDonalds\, 513-517 Pacific Hwy\, Mount Coolah (after Breakfast) \n9:00am                 DEPART \nRoute: Mount Coolah to Nelson Bay https://maps.app.goo.gl/46TbRZdLgcEmzSHe8?g_st=ic \n10:30am               Morning Tea – Tommy’s Café\, 1A Geurtude Pl\, Gosford – (30 Minutes) https://www.tommysgosford.com.au/ \n1:00pm                 Lunch – Great Northern Hotel\, 83-89 Scott St\, Newcastle https://gnhotel.com.au/food-menu \n2:30pm                 Check out the Newcastle sights before Departing for Nelson Bay \n4:30pm                 Accommodation – Check for discounts for Whale Watching Cruise – (See Sunday) \nMany Choices in Nelson Bay – book early.    Hotel Nelson\, Nelson Bay Hotel\, Oaks Nelson Bay Lure Suites\, Admiral Nelson Motor Inn \n7:00pm                 Dinner – Wests – 88 Shoal Bay Rd\, Nelson Bay NSW 2315  https://mywests.com.au/clubs/wests-nelson-bay-diggers \n  \nSunday                25th August\n8:00am                  Breakfast – Your choice \n9:30am                  Arrive D’Albora Marina\, Nelson Bay \n10:00am                Depart on Whale Watching Cruise (2 ½ – 3 hours)  https://moonshadow-tqc.com.au/cruises/whale-watching/ \nAdult $75 + Taxes – check with your hotel for a discount voucher before booking. \n12:30pm                return from cruise \n1:30pm                  Lunch \n2:30pm                  Head back to Sydney  Route: Nelson Bay to Thornleigh   https://maps.app.goo.gl/GaGEQmfG9BsHJxQ56?g_st=i \n5:30pm                  THORNLEIGH \n  \nPLEASE LET ME KNOW IF YOU WILL BE ATTENDING AND IF YOU ARE RIDING OR DRIVING \n\n\nRide safe and keep well\nKylie Tremlett\nGirls Ride Out – Secretary / Ride & Merchandise  Co-ordinator\n0415149484\nkat.216@icloud.com
URL:https://girlsrideout.com/event/gro-weekend-away-nelson-bay-24-25-august-2024/
END:VEVENT
END:VCALENDAR