BEGIN:VCALENDAR
VERSION:2.0
PRODID:-//Girls Ride Out - ECPv6.15.20//NONSGML v1.0//EN
CALSCALE:GREGORIAN
METHOD:PUBLISH
X-WR-CALNAME:Girls Ride Out
X-ORIGINAL-URL:https://girlsrideout.com
X-WR-CALDESC:Events for Girls Ride Out
REFRESH-INTERVAL;VALUE=DURATION:PT1H
X-Robots-Tag:noindex
X-PUBLISHED-TTL:PT1H
BEGIN:VTIMEZONE
TZID:Australia/Sydney
BEGIN:STANDARD
TZOFFSETFROM:+1100
TZOFFSETTO:+1000
TZNAME:AEST
DTSTART:20230401T160000
END:STANDARD
BEGIN:DAYLIGHT
TZOFFSETFROM:+1000
TZOFFSETTO:+1100
TZNAME:AEDT
DTSTART:20230930T160000
END:DAYLIGHT
BEGIN:STANDARD
TZOFFSETFROM:+1100
TZOFFSETTO:+1000
TZNAME:AEST
DTSTART:20240406T160000
END:STANDARD
BEGIN:DAYLIGHT
TZOFFSETFROM:+1000
TZOFFSETTO:+1100
TZNAME:AEDT
DTSTART:20241005T160000
END:DAYLIGHT
BEGIN:STANDARD
TZOFFSETFROM:+1100
TZOFFSETTO:+1000
TZNAME:AEST
DTSTART:20250405T160000
END:STANDARD
BEGIN:DAYLIGHT
TZOFFSETFROM:+1000
TZOFFSETTO:+1100
TZNAME:AEDT
DTSTART:20251004T160000
END:DAYLIGHT
END:VTIMEZONE
BEGIN:VEVENT
DTSTART;TZID=Australia/Sydney:20240107T200000
DTEND;TZID=Australia/Sydney:20240108T040000
DTSTAMP:20260422T081313
CREATED:20231128T054201Z
LAST-MODIFIED:20240102T094701Z
UID:109-1704657600-1704686400@girlsrideout.com
SUMMARY:January GRO Ride - Towradgi Beach
DESCRIPTION:RIDE DETAILS \nDate: Sunday 7th January\, 2024 \nMeet: Ampol Foodary\, 1344 Princes Highway\, HEATHCOTE \nDestination:  Towradgi Bowling Club – 2A Towradgi Road\, Towradgi NSW 2518 \nTime: meet by 9.30am\, ready for 9.50am departure briefing \nRegroup point: Bald Hill Lookout\, Stanwell Tops \n  \nRoute map: goo.gl/maps/bLEJj6gA5Rs \nRide route: (128kms approx 2 hours plus stops) \nTurn left out of the Caltex into Princes Highway and continue south to Waterfall (next suburb). \nTurn left into Kooraban St\, cross over the railway line\, and veer right into McKell Avenue \nFollow the road through the lower half of the Royal National Park\, turning right at Lady Wakehurst Drive \nRegroup at Bald Hill for nature stop\, coffee (Maybe an Ice-cream) or just enjoy the view and watch the Hang-gliders do their thing. \n  \nResume Journey: Turn left out of Bald Hill car park and turn left again to follow Lawrence Hargrave Drive down the hill towards Stanwell Park. \nFollow the road along corners and cliffs to the Sea Cliff Bridge. \nContinue on Lawrence Hargrave Drive into Wollongong’s northern suburbs\, joining Princes Highway at Bulli. \nAfter Bulli\, turn left at the big roundabout into Memorial Drive (Northern Distributor). \nTurn left into Bellambi Lane\, over the railway line\, then right into Grand Pacific Drive/Pioneer Road. \nAt Towradgi\, turn left into Towradgi Road. \nContinue to the end – our lunch destination Towradgi Bowling Club is on the left and the beach is straight ahead. \n  \nWhy not take the time and indicate you are going by clicking the ‘going’ button on the Facebook Event Listing.
URL:https://girlsrideout.com/event/january-gro-ride-towradgi-beach/
END:VEVENT
END:VCALENDAR