BEGIN:VCALENDAR
VERSION:2.0
PRODID:-//Girls Ride Out - ECPv6.15.20//NONSGML v1.0//EN
CALSCALE:GREGORIAN
METHOD:PUBLISH
X-WR-CALNAME:Girls Ride Out
X-ORIGINAL-URL:https://girlsrideout.com
X-WR-CALDESC:Events for Girls Ride Out
REFRESH-INTERVAL;VALUE=DURATION:PT1H
X-Robots-Tag:noindex
X-PUBLISHED-TTL:PT1H
BEGIN:VTIMEZONE
TZID:Australia/Sydney
BEGIN:STANDARD
TZOFFSETFROM:+1100
TZOFFSETTO:+1000
TZNAME:AEST
DTSTART:20220402T160000
END:STANDARD
BEGIN:DAYLIGHT
TZOFFSETFROM:+1000
TZOFFSETTO:+1100
TZNAME:AEDT
DTSTART:20221001T160000
END:DAYLIGHT
BEGIN:STANDARD
TZOFFSETFROM:+1100
TZOFFSETTO:+1000
TZNAME:AEST
DTSTART:20230401T160000
END:STANDARD
BEGIN:DAYLIGHT
TZOFFSETFROM:+1000
TZOFFSETTO:+1100
TZNAME:AEDT
DTSTART:20230930T160000
END:DAYLIGHT
BEGIN:STANDARD
TZOFFSETFROM:+1100
TZOFFSETTO:+1000
TZNAME:AEST
DTSTART:20240406T160000
END:STANDARD
BEGIN:DAYLIGHT
TZOFFSETFROM:+1000
TZOFFSETTO:+1100
TZNAME:AEDT
DTSTART:20241005T160000
END:DAYLIGHT
BEGIN:STANDARD
TZOFFSETFROM:+1100
TZOFFSETTO:+1000
TZNAME:AEST
DTSTART:20250405T160000
END:STANDARD
BEGIN:DAYLIGHT
TZOFFSETFROM:+1000
TZOFFSETTO:+1100
TZNAME:AEDT
DTSTART:20251004T160000
END:DAYLIGHT
END:VTIMEZONE
BEGIN:VEVENT
DTSTART;TZID=Australia/Sydney:20240313T060000
DTEND;TZID=Australia/Sydney:20240313T080000
DTSTAMP:20260422T113628
CREATED:20240308T084132Z
LAST-MODIFIED:20240308T084132Z
UID:140-1710309600-1710316800@girlsrideout.com
SUMMARY:Evening Ride - Tuesday 12 March 2024
DESCRIPTION:Hi GRO Riders\, \nIt’s time for the group to embrace an evening ride together.  \nI have always travelled over the Sydney Harbour Bridge by foot\, car\, bus or train. I haven’t however made the journey on a motorcycle. So\, I put it to the committee a couple of months ago that I would like to do a nighttime run and meet up for dessert and/or coffee. \nPlease join me in this Harbour Bridge Crossing adventure. \nIf you can’t make the ride maybe just meet us for Dessert or Coffee\, I expect that we should arrive at Love Crepe approximately 8 – 8:15pm depending on traffic. \nJust in case you are after a quick meal before hand there is a Pizza shop (next door)\, Hamburger shop (across the road) and Pub (a couple of doors down) all close by. \nAs this is a night ride – if it is raining the ride will be cancelled. \nRIDE DETAILS  \nDate:    12th March \nMeet:    Ampol – North Ryde\, 41-43 Epping Road\, Macquarie Park \nTime:    7:00pm \nDestination: Love Crepe\, 216 Lyons Road\, Drummoyne \nBest parking is in Hampden Road \nNOTE:  This is an outside venue (don’t forget warm clothing) \n  \nRoute: https://maps.app.goo.gl/zrZhr7U63XaNhyBGA?g_st=im \nPlease note Google maps keeps updating our chosen route to be something it prefers.  We are absolutely travelling along Victoria Road after we come off Anzac Bridge. \nNote that this route has tolls across the Harbour Bridge. \nWhy not take the time and indicate you are going by clicking the ‘going’ button on the Facebook Event Listing. \nI hope you can make it. \nRegards \nKylie Tremlett \n0415149484
URL:https://girlsrideout.com/event/evening-ride-tuesday-12-march-2024/
LOCATION:Love Crepe\, 216 Lyons Road\, Drummoyne\, New South Wales\, 2047\, Australia
END:VEVENT
BEGIN:VEVENT
DTSTART;TZID=Australia/Sydney:20240303T200000
DTEND;TZID=Australia/Sydney:20240304T023000
DTSTAMP:20260422T113628
CREATED:20240227T101454Z
LAST-MODIFIED:20240227T101807Z
UID:135-1709496000-1709519400@girlsrideout.com
SUMMARY:March GRO Ride - The Surveyor General Inn\, Berrima
DESCRIPTION:Join us for our first Autumn ride of the year\, taking us for morning tea at the Mount Keira Lookout then through the Southern Highlands following a scenic route to the village of Berrima for a pub lunch. We include a run up Macquarie Pass – a favourite amount the riding community. \n** NOTE: This is a 9:20am departure – 30 minutes earlier than our last ride.** \nEveryone is welcome.  Please let us know if you are new to riding\, or want a buddy for the ride.  Feel free to bring friends! \nRIDE DETAILS \nDate: Sunday 3rd March\, 2024 \nMeet: McDonalds\, Camden Valley Way\, NARELLAN \nDestination:  The Surveyor General Inn\, 26 Old Hume Hwy\, BERRIMA NSW 2577 (Arrival estimate 12:30 – 1:00pm) \nTime: Meet by 9.00am\, ready for 9.20am departure briefing.  Note the earlier meeting time. \nRegroup point: Mount Kiera Lookout \nCoffee Stop: Mount Keira Lookout\, \nQueen Elizabeth Drive\, MOUNT KEIRA \nRoute map:  https://maps.app.goo.gl/SCsenMHVtmmATc3XA \nRide route: (149kms approx 3 hours including coffee stop) \nWhy not take the time and indicate you are going by clicking the ‘going’ button on the Facebook Event Listing. \n** Reminder to all that membership renewals were due in January. A copy of the   Membership Renewal Form is available to download\, complete and e-mail back to memberships@girlsrideout.com \nIf you pay by transfer\, please also e-mail your confirmation of payment.  Or bring cash along to the March ride.
URL:https://girlsrideout.com/event/march-gro-ride-the-surveyor-general-inn-berrima/
LOCATION:McDonalds Narellan\, Camden Valley Way\, Narellan\, New South Wales\, 2567\, Australia
END:VEVENT
BEGIN:VEVENT
DTSTART;TZID=Australia/Sydney:20240204T200000
DTEND;TZID=Australia/Sydney:20240205T040000
DTSTAMP:20260422T113628
CREATED:20231128T054330Z
LAST-MODIFIED:20231128T054330Z
UID:111-1707076800-1707105600@girlsrideout.com
SUMMARY:February GRO Ride - Jerry’s at Kulnura
DESCRIPTION:Meet: Richmond McDonalds \nDetails will be posted closer to the event
URL:https://girlsrideout.com/event/february-gro-ride-jerrys-at-kulnura/
END:VEVENT
BEGIN:VEVENT
DTSTART;TZID=Australia/Sydney:20240107T200000
DTEND;TZID=Australia/Sydney:20240108T040000
DTSTAMP:20260422T113628
CREATED:20231128T054201Z
LAST-MODIFIED:20240102T094701Z
UID:109-1704657600-1704686400@girlsrideout.com
SUMMARY:January GRO Ride - Towradgi Beach
DESCRIPTION:RIDE DETAILS \nDate: Sunday 7th January\, 2024 \nMeet: Ampol Foodary\, 1344 Princes Highway\, HEATHCOTE \nDestination:  Towradgi Bowling Club – 2A Towradgi Road\, Towradgi NSW 2518 \nTime: meet by 9.30am\, ready for 9.50am departure briefing \nRegroup point: Bald Hill Lookout\, Stanwell Tops \n  \nRoute map: goo.gl/maps/bLEJj6gA5Rs \nRide route: (128kms approx 2 hours plus stops) \nTurn left out of the Caltex into Princes Highway and continue south to Waterfall (next suburb). \nTurn left into Kooraban St\, cross over the railway line\, and veer right into McKell Avenue \nFollow the road through the lower half of the Royal National Park\, turning right at Lady Wakehurst Drive \nRegroup at Bald Hill for nature stop\, coffee (Maybe an Ice-cream) or just enjoy the view and watch the Hang-gliders do their thing. \n  \nResume Journey: Turn left out of Bald Hill car park and turn left again to follow Lawrence Hargrave Drive down the hill towards Stanwell Park. \nFollow the road along corners and cliffs to the Sea Cliff Bridge. \nContinue on Lawrence Hargrave Drive into Wollongong’s northern suburbs\, joining Princes Highway at Bulli. \nAfter Bulli\, turn left at the big roundabout into Memorial Drive (Northern Distributor). \nTurn left into Bellambi Lane\, over the railway line\, then right into Grand Pacific Drive/Pioneer Road. \nAt Towradgi\, turn left into Towradgi Road. \nContinue to the end – our lunch destination Towradgi Bowling Club is on the left and the beach is straight ahead. \n  \nWhy not take the time and indicate you are going by clicking the ‘going’ button on the Facebook Event Listing.
URL:https://girlsrideout.com/event/january-gro-ride-towradgi-beach/
END:VEVENT
BEGIN:VEVENT
DTSTART;TZID=Australia/Sydney:20231203T090000
DTEND;TZID=Australia/Sydney:20231203T170000
DTSTAMP:20260422T113628
CREATED:20231026T094639Z
LAST-MODIFIED:20231128T053929Z
UID:77-1701594000-1701622800@girlsrideout.com
SUMMARY:December GRO Ride - Bundanoon
DESCRIPTION:Welcome to our December Ride details. \nKylie (usual ride leader) will not be riding this month as she managed to fracture her leg\, however she will be a pillion (sidecar) passenger this time. Erica\, with her bike and sidecar (and Kylie) will be lead rider and Kylie will be navigating. \nWe are heading down South through the Southern Highlands. We missed this destination last month due to the ride being cancelled because it was howling down with rain. \nThis month’s route will start at Narellan and head out to Burragorang look. We will then continue down through Thirlmere\, Mittagong and Sutton Forest arriving at our lunch destination\, Bundanoon Hotel. \nRIDE DETAILS \nDate: Sunday 3rd December 2023 \nMeet: McDonalds\, Camden Valley Way\, NARELLAN NSW 2567 \nDestination: Bundanoon Hotel\, 6-18 Erith St\, BUNDANOON NSW 2578 \nTime: meet by 9.30am\, ready for 9.50am departure briefing \nRegroup point: Burragorang Look out and Picnic Area \n  \nRoute map: https://maps.app.goo.gl/9aFeF9oazpq1NZA69 \nRide route: (128kms approx 2 hours plus stops) \nTurn Right on to George Hunter Drive\, Turn Right on to Maxwell Pl\, Turn Left on to Narellan Road. \nTurn Right on to Camden ByPass\, Continue on Old Hume Hwy/Remembrance Drive. Turn Right on to Burragorang Road\, continue on to Mary Street through Roundabout\, continue on to Burragorang Road\, Turn Right onto Burragorang Lookout Road. \nArrive at Regroup Point – Burragorang Lookout and Picnic Area. \n  \nResume Journey: Head east on Burragorang Lookout Road\, continue on Burragorang Road\, turn right onto Bakers Lodge Road. \nTurn right on to Mowbray Park Road.  Mowbray Park Road turns left and becomes Oaks Road. \nAt the roundabout take the third exit onto Barbour Road. \nContinue onto W Parade. \nContinue onto Wilson Drive\, turn right at Church Ave \nContinue onto Wattle St\, turn left onto Pine Street \nTurn right onto Azalea St\, \nTurn left onto Drapers Rd\, Turn left to stay on Drapers Rd\, Continue onto Orient St. \nTurn left onto Badgery Street. \nTurn right onto Railway Terrace\, Railway Terrace turns slightly left and becomes Swan Street. \nTurn right onto Old Hume Hwy/B73\, Turn left onto Bowral Rd/B73 Continue to follow B73\, Slight left onto Bong Bong St Go through 1 roundabout\, At the roundabout\, continue straight onto Moss Vale Rd\, At the roundabout\, continue straight to stay on Moss Vale Rd\, Continue onto Argyle St\, \nAt the roundabout\, continue straight onto Argyle St/Illawarra Hwy/A48 Continue to follow Illawarra Hwy/A48\, \nHead south-east on Exeter Rd towards Nicholson St\, Continue onto Bundanoon Rd\, \nTurn right onto Erith Street. \nOur lunch destination Bundanoon Hotel\, will be on the right. \nWhy not take the time and indicate you are going by clicking the ‘going’ button on the Facebook event listing.
URL:https://girlsrideout.com/event/december-gro-ride-destination-tba/
END:VEVENT
BEGIN:VEVENT
DTSTART;TZID=Australia/Sydney:20231105T203000
DTEND;TZID=Australia/Sydney:20231106T040000
DTSTAMP:20260422T113628
CREATED:20231021T014215Z
LAST-MODIFIED:20231026T095336Z
UID:49-1699216200-1699243200@girlsrideout.com
SUMMARY:November GRO Ride - Bundanoon
DESCRIPTION:Once again\, we are heading down South through the Southern Highlands. \nMeet: McDonalds\, Camden Valley Way\, NARELLAN NSW 2567 \nDestination: Bundanoon Hotel\, 6-18 Erith Street\, BUNDANOON NSW 2578 \nTime: meet by 9.30am\, ready for 9.50am departure briefing \n \nRegroup point: Burragorang Look out and Picnic Area \nThis month’s route will start at Narellan and head out to Burragorang Lookout. We will then continue down through Thirlmere\, Mittagong and Sutton Forest arriving at our lunch destination\, Bundanoon Hotel. \nRoute map: https://maps.app.goo.gl/9aFeF9oazpq1NZA69 Ride route: (128kms approx 2 hours plus stops)
URL:https://girlsrideout.com/event/november-gro-ride-bundanoon/
LOCATION:McDonalds Narellan\, Camden Valley Way\, Narellan\, New South Wales\, 2567\, Australia
END:VEVENT
END:VCALENDAR