BEGIN:VCALENDAR
VERSION:2.0
PRODID:-//Girls Ride Out - ECPv6.15.20//NONSGML v1.0//EN
CALSCALE:GREGORIAN
METHOD:PUBLISH
X-WR-CALNAME:Girls Ride Out
X-ORIGINAL-URL:https://girlsrideout.com
X-WR-CALDESC:Events for Girls Ride Out
REFRESH-INTERVAL;VALUE=DURATION:PT1H
X-Robots-Tag:noindex
X-PUBLISHED-TTL:PT1H
BEGIN:VTIMEZONE
TZID:Australia/Sydney
BEGIN:STANDARD
TZOFFSETFROM:+1100
TZOFFSETTO:+1000
TZNAME:AEST
DTSTART:20230401T160000
END:STANDARD
BEGIN:DAYLIGHT
TZOFFSETFROM:+1000
TZOFFSETTO:+1100
TZNAME:AEDT
DTSTART:20230930T160000
END:DAYLIGHT
BEGIN:STANDARD
TZOFFSETFROM:+1100
TZOFFSETTO:+1000
TZNAME:AEST
DTSTART:20240406T160000
END:STANDARD
BEGIN:DAYLIGHT
TZOFFSETFROM:+1000
TZOFFSETTO:+1100
TZNAME:AEDT
DTSTART:20241005T160000
END:DAYLIGHT
BEGIN:STANDARD
TZOFFSETFROM:+1100
TZOFFSETTO:+1000
TZNAME:AEST
DTSTART:20250405T160000
END:STANDARD
BEGIN:DAYLIGHT
TZOFFSETFROM:+1000
TZOFFSETTO:+1100
TZNAME:AEDT
DTSTART:20251004T160000
END:DAYLIGHT
END:VTIMEZONE
BEGIN:VEVENT
DTSTART;TZID=Australia/Sydney:20240707T193000
DTEND;TZID=Australia/Sydney:20240708T013000
DTSTAMP:20260420T121017
CREATED:20240630T103721Z
LAST-MODIFIED:20240630T103937Z
UID:157-1720380600-1720402200@girlsrideout.com
SUMMARY:GRO Monthly Ride\, 7th July\, 2024 - Putty Road To Grey Gums International Cafe
DESCRIPTION:Come along to this month’s GRO ride out along the Putty Road which is an absolute favourite for the two-wheeler community. It’s a great alternative for heading north to the Hunter Valley or just a quick day out of Sydney the twisty way.\n\nThis ride is a popular one and we know you’ll enjoy it. So why not join us for the ride and then enjoy Lunch together at Grey Gums International Cafe.\n\nMeet us at McDonalds Windsor/McGraths Hill (corner Windsor Rd & Groves Ave) at 9:30am before we head up Windsor Road on our adventure.\n\n** NOTE: This is a 9:50am departure briefing**  \n\nEveryone is welcome.  \n\nPlease let us know if you are new to riding\, or want a buddy for the ride.  Feel free to bring friends!  \n\nRIDE DETAILS\n\nDate: Sunday 7th July\, 2024\n\nMeet: McDonalds Windsor/McGraths Hill (corner Windsor Rd & Groves Ave)\n\nDestination: Grey Gums International Cafe\, Putty Rd\, PUTTY\n\nTime: Meet by 9.30am\, ready for 9.50am departure briefing.  \n\nRegroup points: Sackville Ferry crossing\,  Colo Heights Service Station Rest\n\nRoute map: https://goo.gl/maps/F2kk3uEPW2E2\n\nRide route time: Approx. 111km\, 2hrs with Ferry stop\n\nWhy not take the time and indicate you are going by clicking the ‘going’ button on the Facebook Event Listing.  \n\nRide route details:\n\nDepart McDonalds via Groves Ave\, turn left onto Windsor Rd.\n\nKeep in the right lane\, turn right on to Pitt Town Rd\, slight right onto Chatham St.\n\nRight on to Eldon St continuing on Cattai Rd\, continue on Wisemans Ferry Rd.\n\nLeft on Sackville Ferry Rd\, (regroup point)\n\nTake the Sackville Ferry to Sackville. Continue on Sackville Rd\, Right on West Portland Rd\, Left on Bull Ridge Rd\, Right on Putty Rd\, continue through Colo\, Right (regroup point) Colo Heights Service Station Rest.\n\nContinue along Putty Rd to our destination\, Grey Gums International Cafe which will be on your right.\n\nEven though we have a great corner marker system in place\, it’s still easy to become lost so make yourself aware of the route.
URL:https://girlsrideout.com/event/gro-monthly-ride-7th-july-2024-putty-road-to-grey-gums-international-cafe/
END:VEVENT
END:VCALENDAR